BEGIN:VCALENDAR
VERSION:2.0
PRODID:-//Trans&#039;Actions Guadeloupe - ECPv6.15.20//NONSGML v1.0//EN
CALSCALE:GREGORIAN
METHOD:PUBLISH
X-WR-CALNAME:Trans&#039;Actions Guadeloupe
X-ORIGINAL-URL:https://trans-actions.org
X-WR-CALDESC:Évènements pour Trans&#039;Actions Guadeloupe
REFRESH-INTERVAL;VALUE=DURATION:PT1H
X-Robots-Tag:noindex
X-PUBLISHED-TTL:PT1H
BEGIN:VTIMEZONE
TZID:America/Guadeloupe
BEGIN:STANDARD
TZOFFSETFROM:-0400
TZOFFSETTO:-0400
TZNAME:AST
DTSTART:20250101T000000
END:STANDARD
END:VTIMEZONE
BEGIN:VEVENT
DTSTART;TZID=America/Guadeloupe:20260425T143000
DTEND;TZID=America/Guadeloupe:20260425T170000
DTSTAMP:20260424T081204
CREATED:20260417T173948Z
LAST-MODIFIED:20260421T171859Z
UID:2377-1777127400-1777136400@trans-actions.org
SUMMARY:Atelier écriture inclusive et communication non discriminante
DESCRIPTION:Les mots ont un pouvoir. Celui d’inclure — ou d’exclure\, souvent sans qu’on s’en rende compte. 💬 \nLe 25 avril\, on vous invite à questionner vos pratiques d’écriture et de communication\, dans un espace bienveillant\, concret et sans prise de tête. \nAu programme : écriture inclusive\, handicap\, diversités relationnelles et familiales — et un Grand Défi Inclusif pour mettre tout ça en pratique 🎯 \n\n🗓️ Vendredi 25 avril \n📍 Maison des Diversités et de l’Inclusion — 21 Rue Gambetta\, Pointe-à-Pitre \n⏱️ 2h30 d’atelier \n💶 30€ • Supports numériques + attestation de participation inclus \n🔗 Inscription sur HelloAsso 			\n \n\nAucun prérequis. Tou·te·s les niveaux sont les bienvenu·e·s. 🌈 \nUn grand merci à nos partenaires @mdi_guadeloupe et @bi.fwi pour rendre cet atelier possible 🤝 \n\n\n\n 
URL:https://trans-actions.org/event/atelier-ecriture-inclusive-et-communication-non-discriminante/
LOCATION:Maison des Diversités et de l’Inclusion (MDI)\, 21 Rue Gambetta\, Pointe-à-Pitre\, 97110\, Guadeloupe
CATEGORIES:Ateliers
ATTACH;FMTTYPE=image/jpeg:https://trans-actions.org/wp-content/uploads/2026/04/Banniere-EICND@300x-100-scaled.jpg
ORGANIZER;CN="Trans'Actions Guadeloupe":MAILTO:contact@trans-actions.org
END:VEVENT
END:VCALENDAR