BEGIN:VCALENDAR
VERSION:2.0
PRODID:-//Trans&#039;Actions Guadeloupe - ECPv6.15.20//NONSGML v1.0//EN
CALSCALE:GREGORIAN
METHOD:PUBLISH
X-ORIGINAL-URL:https://trans-actions.org
X-WR-CALDESC:Évènements pour Trans&#039;Actions Guadeloupe
REFRESH-INTERVAL;VALUE=DURATION:PT1H
X-Robots-Tag:noindex
X-PUBLISHED-TTL:PT1H
BEGIN:VTIMEZONE
TZID:America/Guadeloupe
BEGIN:STANDARD
TZOFFSETFROM:-0400
TZOFFSETTO:-0400
TZNAME:AST
DTSTART:20240101T000000
END:STANDARD
END:VTIMEZONE
BEGIN:VEVENT
DTSTART;VALUE=DATE:20251201
DTEND;VALUE=DATE:20251202
DTSTAMP:20260424T182922
CREATED:20251031T202350Z
LAST-MODIFIED:20251031T202350Z
UID:2014-1764547200-1764633599@trans-actions.org
SUMMARY:Journée de la lutte contre le SIDA
DESCRIPTION:
URL:https://trans-actions.org/event/journee-de-la-lutte-contre-le-sida/
CATEGORIES:Dates importantes
END:VEVENT
BEGIN:VEVENT
DTSTART;VALUE=DATE:20251201
DTEND;VALUE=DATE:20251202
DTSTAMP:20260424T182922
CREATED:20251031T202454Z
LAST-MODIFIED:20251031T202454Z
UID:2016-1764547200-1764633599@trans-actions.org
SUMMARY:Journée internationale des droits de l'Homme
DESCRIPTION:
URL:https://trans-actions.org/event/journee-internationale-des-droits-de-lhomme/
CATEGORIES:Dates importantes
END:VEVENT
BEGIN:VEVENT
DTSTART;TZID=America/Guadeloupe:20251207T100000
DTEND;TZID=America/Guadeloupe:20251207T160000
DTSTAMP:20260424T182922
CREATED:20251205T191022Z
LAST-MODIFIED:20251205T191044Z
UID:2333-1765101600-1765123200@trans-actions.org
SUMMARY:Village « LES SCINTILLANTES »
DESCRIPTION:📅 Dimanche 7 décembre 2025 – dès 10h \nVenez nombreux découvrir notre village de prévention\, d’information et d’animation\, avant le départ pour la course solidaire contre les violences faites aux femmes. \nAu programme : \n\nCourse solidaire\nChanté Nwel & concert live\nConférences débats\nAnimations\, stands\, jeux gonflables\nEspace bien-être\nAteliers self-défense\nFoodtrucks et buvettes pour se restaurer\n\nUn moment convivial\, familial et entièrement gratuit pour dire non aux violences faites aux femmes.\n 
URL:https://trans-actions.org/event/village-les-scintillantes/
LOCATION:Palais des Sports\, Gosier\, 6F9H+RWQ\, Le Gosier 97190\, Guadeloupe\, Gosier\, 97190\, Guadeloupe
CATEGORIES:Stands
ATTACH;FMTTYPE=image/jpeg:https://trans-actions.org/wp-content/uploads/2025/12/scintillante-1.jpeg
END:VEVENT
END:VCALENDAR